BEGIN:VCALENDAR
VERSION:2.0
PRODID:SchoolNow
CALSCALE:GREGORIAN
BEGIN:VEVENT
UID:c51d746a-5141-11f0-b282-0ed606b70017
DTSTAMP:20260421T171007Z
SUMMARY:Winter Break
URL;VALUE=URI:https://www.latrobesd.org/calendar/8350181/winter-break
DTSTART;VALUE=DATE:20251222
DTEND;VALUE=DATE:20260103
END:VEVENT
END:VCALENDAR
