BEGIN:VCALENDAR
VERSION:2.0
PRODID:SchoolNow
CALSCALE:GREGORIAN
BEGIN:VEVENT
UID:c51d75aa-5141-11f0-86a5-0ed606b70017
DTSTAMP:20260421T171007Z
SUMMARY:Martin Luther King Day
URL;VALUE=URI:https://www.latrobesd.org/calendar/8350182/martin-luther-king
 -day
DTSTART;VALUE=DATE:20260119
DTEND;VALUE=DATE:20260120
END:VEVENT
END:VCALENDAR
