BEGIN:VCALENDAR
VERSION:2.0
PRODID:SchoolNow
CALSCALE:GREGORIAN
BEGIN:VEVENT
UID:c51d76d6-5141-11f0-9d8c-0ed606b70017
DTSTAMP:20260421T171007Z
SUMMARY:Board Meeting
URL;VALUE=URI:https://www.latrobesd.org/calendar/8350183/board-meeting
DTSTART:20260121T020000Z
DTEND:20260121T030000Z
END:VEVENT
END:VCALENDAR
