BEGIN:VCALENDAR
VERSION:2.0
PRODID:SchoolNow
CALSCALE:GREGORIAN
BEGIN:VEVENT
UID:c51d77ee-5141-11f0-bf6a-0ed606b70017
DTSTAMP:20260421T171007Z
SUMMARY:PTC Emerald Evening Father-Daughter Dance
URL;VALUE=URI:https://www.latrobesd.org/calendar/8350184/ptc-emerald-evenin
 g-father-daughter-dance
DTSTART:20260124T020000Z
DTEND:20260124T040000Z
END:VEVENT
END:VCALENDAR
