BEGIN:VCALENDAR
VERSION:2.0
PRODID:SchoolNow
CALSCALE:GREGORIAN
BEGIN:VEVENT
UID:c51d7bf4-5141-11f0-9bf7-0ed606b70017
DTSTAMP:20260421T171007Z
SUMMARY:Minimum Day
URL;VALUE=URI:https://www.latrobesd.org/calendar/8350185/minimum-day
DTSTART;VALUE=DATE:20260126
DTEND;VALUE=DATE:20260127
END:VEVENT
END:VCALENDAR
