BEGIN:VCALENDAR
VERSION:2.0
PRODID:SchoolNow
CALSCALE:GREGORIAN
BEGIN:VEVENT
UID:c51d7e24-5141-11f0-b74f-0ed606b70017
DTSTAMP:20260421T171007Z
SUMMARY:President's Day
URL;VALUE=URI:https://www.latrobesd.org/calendar/8350187/presidents-day
DTSTART;VALUE=DATE:20260213
DTEND;VALUE=DATE:20260214
END:VEVENT
END:VCALENDAR
