BEGIN:VCALENDAR
VERSION:2.0
PRODID:SchoolNow
CALSCALE:GREGORIAN
BEGIN:VEVENT
UID:c51d7f1e-5141-11f0-ba6c-0ed606b70017
DTSTAMP:20260421T171007Z
SUMMARY:Washington's Day
URL;VALUE=URI:https://www.latrobesd.org/calendar/8350188/washingtons-day
DTSTART;VALUE=DATE:20260216
DTEND;VALUE=DATE:20260217
END:VEVENT
END:VCALENDAR
