BEGIN:VCALENDAR
VERSION:2.0
PRODID:SchoolNow
CALSCALE:GREGORIAN
BEGIN:VEVENT
UID:c51d8018-5141-11f0-9bb4-0ed606b70017
DTSTAMP:20260421T171007Z
SUMMARY:Board Meeting
URL;VALUE=URI:https://www.latrobesd.org/calendar/8350189/board-meeting
DTSTART:20260218T020000Z
DTEND:20260218T030000Z
END:VEVENT
END:VCALENDAR
