BEGIN:VCALENDAR
VERSION:2.0
PRODID:SchoolNow
CALSCALE:GREGORIAN
BEGIN:VEVENT
UID:c51d8108-5141-11f0-9cab-0ed606b70017
DTSTAMP:20260421T171007Z
SUMMARY:End of Trimester 2
URL;VALUE=URI:https://www.latrobesd.org/calendar/8350190/end-of-trimester-2
DTSTART;VALUE=DATE:20260220
DTEND;VALUE=DATE:20260221
END:VEVENT
END:VCALENDAR
