BEGIN:VCALENDAR
VERSION:2.0
PRODID:SchoolNow
CALSCALE:GREGORIAN
BEGIN:VEVENT
UID:c51d81f8-5141-11f0-a4b1-0ed606b70017
DTSTAMP:20260421T171007Z
SUMMARY:PTC Boots & Bowties
URL;VALUE=URI:https://www.latrobesd.org/calendar/8350191/ptc-boots-bowties
DTSTART;VALUE=DATE:20260221
DTEND;VALUE=DATE:20260222
END:VEVENT
END:VCALENDAR
