BEGIN:VCALENDAR
VERSION:2.0
PRODID:SchoolNow
CALSCALE:GREGORIAN
BEGIN:VEVENT
UID:c51d82de-5141-11f0-a25f-0ed606b70017
DTSTAMP:20260421T171007Z
SUMMARY:Minimum Day
URL;VALUE=URI:https://www.latrobesd.org/calendar/8350192/minimum-day
DTSTART;VALUE=DATE:20260223
DTEND;VALUE=DATE:20260224
END:VEVENT
END:VCALENDAR
