BEGIN:VCALENDAR
VERSION:2.0
PRODID:SchoolNow
CALSCALE:GREGORIAN
BEGIN:VEVENT
UID:c51d83c4-5141-11f0-80fa-0ed606b70017
DTSTAMP:20260421T171007Z
SUMMARY:Minimum Day - Parent Conferences
URL;VALUE=URI:https://www.latrobesd.org/calendar/8350193/minimum-day-parent
 -conferences
DTSTART;VALUE=DATE:20260302
DTEND;VALUE=DATE:20260303
END:VEVENT
END:VCALENDAR
