BEGIN:VCALENDAR
VERSION:2.0
PRODID:SchoolNow
CALSCALE:GREGORIAN
BEGIN:VEVENT
UID:c51d8612-5141-11f0-a2d7-0ed606b70017
DTSTAMP:20260421T171007Z
SUMMARY:Board Meeting
URL;VALUE=URI:https://www.latrobesd.org/calendar/8350195/board-meeting
DTSTART:20260318T010000Z
DTEND:20260318T020000Z
END:VEVENT
END:VCALENDAR
