BEGIN:VCALENDAR
VERSION:2.0
PRODID:SchoolNow
CALSCALE:GREGORIAN
BEGIN:VEVENT
UID:c51d8702-5141-11f0-96ee-0ed606b70017
DTSTAMP:20260421T171007Z
SUMMARY:PTC Student Business Faire
URL;VALUE=URI:https://www.latrobesd.org/calendar/8350196/ptc-student-busine
 ss-faire
DTSTART;VALUE=DATE:20260321
DTEND;VALUE=DATE:20260322
END:VEVENT
END:VCALENDAR
