BEGIN:VCALENDAR
VERSION:2.0
PRODID:SchoolNow
CALSCALE:GREGORIAN
BEGIN:VEVENT
UID:c51d87e8-5141-11f0-8e7f-0ed606b70017
DTSTAMP:20260421T171007Z
SUMMARY:Minimum Day
URL;VALUE=URI:https://www.latrobesd.org/calendar/8350197/minimum-day
DTSTART;VALUE=DATE:20260323
DTEND;VALUE=DATE:20260324
END:VEVENT
END:VCALENDAR
