BEGIN:VCALENDAR
VERSION:2.0
PRODID:SchoolNow
CALSCALE:GREGORIAN
BEGIN:VEVENT
UID:c51d88ce-5141-11f0-9313-0ed606b70017
DTSTAMP:20260421T110508Z
SUMMARY:Spring Break through Mon 4/6
URL;VALUE=URI:https://www.latrobesd.org/calendar/8350198/spring-break-throu
 gh-mon-4-6
DTSTART;VALUE=DATE:20260330
DTEND;VALUE=DATE:20260407
END:VEVENT
END:VCALENDAR
