BEGIN:VCALENDAR
VERSION:2.0
PRODID:SchoolNow
CALSCALE:GREGORIAN
BEGIN:VEVENT
UID:c51d89e6-5141-11f0-a791-0ed606b70017
DTSTAMP:20260421T110508Z
SUMMARY:Minimum Day
URL;VALUE=URI:https://www.latrobesd.org/calendar/8350199/minimum-day
DTSTART;VALUE=DATE:20260420
DTEND;VALUE=DATE:20260421
END:VEVENT
END:VCALENDAR
