BEGIN:VCALENDAR
VERSION:2.0
PRODID:SchoolNow
CALSCALE:GREGORIAN
BEGIN:VEVENT
UID:c51d9bfc-5141-11f0-9b42-0ed606b70017
DTSTAMP:20260421T171007Z
SUMMARY:Board Meeting
URL;VALUE=URI:https://www.latrobesd.org/calendar/8350200/board-meeting
DTSTART:20260422T010000Z
DTEND:20260422T020000Z
END:VEVENT
END:VCALENDAR
