BEGIN:VCALENDAR
VERSION:2.0
PRODID:SchoolNow
CALSCALE:GREGORIAN
BEGIN:VEVENT
UID:c51da106-5141-11f0-8e63-0ed606b70017
DTSTAMP:20260421T171007Z
SUMMARY:PTC Staff Appreciation Week
URL;VALUE=URI:https://www.latrobesd.org/calendar/8350201/ptc-staff-apprecia
 tion-week
DTSTART;VALUE=DATE:20260504
DTEND;VALUE=DATE:20260509
END:VEVENT
END:VCALENDAR
