BEGIN:VCALENDAR
VERSION:2.0
PRODID:SchoolNow
CALSCALE:GREGORIAN
BEGIN:VEVENT
UID:c51da21e-5141-11f0-b9dc-0ed606b70017
DTSTAMP:20260421T171007Z
SUMMARY:Minimum Day
URL;VALUE=URI:https://www.latrobesd.org/calendar/8350202/minimum-day
DTSTART;VALUE=DATE:20260511
DTEND;VALUE=DATE:20260512
END:VEVENT
END:VCALENDAR
