BEGIN:VCALENDAR
VERSION:2.0
PRODID:SchoolNow
CALSCALE:GREGORIAN
BEGIN:VEVENT
UID:c51da322-5141-11f0-a6ec-0ed606b70017
DTSTAMP:20260421T171007Z
SUMMARY:3rd-8th CASSPP Testing
URL;VALUE=URI:https://www.latrobesd.org/calendar/8350203/3rd-8th-casspp-tes
 ting
DTSTART;VALUE=DATE:20260427
DTEND;VALUE=DATE:20260502
END:VEVENT
END:VCALENDAR
