BEGIN:VCALENDAR
VERSION:2.0
PRODID:SchoolNow
CALSCALE:GREGORIAN
BEGIN:VEVENT
UID:c51da624-5141-11f0-8908-0ed606b70017
DTSTAMP:20260421T171007Z
SUMMARY:Book Fair
URL;VALUE=URI:https://www.latrobesd.org/calendar/8350206/book-fair
DTSTART;VALUE=DATE:20260511
DTEND;VALUE=DATE:20260516
END:VEVENT
END:VCALENDAR
