BEGIN:VCALENDAR
VERSION:2.0
PRODID:SchoolNow
CALSCALE:GREGORIAN
BEGIN:VEVENT
UID:c51da9f8-5141-11f0-b30b-0ed606b70017
DTSTAMP:20260421T171007Z
SUMMARY:Minimum Day/Last Day of School
URL;VALUE=URI:https://www.latrobesd.org/calendar/8350210/minimum-day-last-d
 ay-of-school
DTSTART;VALUE=DATE:20260522
DTEND;VALUE=DATE:20260523
END:VEVENT
END:VCALENDAR
