BEGIN:VCALENDAR
VERSION:2.0
PRODID:SchoolNow
CALSCALE:GREGORIAN
BEGIN:VEVENT
UID:c51daae8-5141-11f0-bb1d-0ed606b70017
DTSTAMP:20260421T171007Z
SUMMARY:TK-8 Last Day of School Field Day @ MH
URL;VALUE=URI:https://www.latrobesd.org/calendar/8350211/tk-8-last-day-of-s
 chool-field-day-mh
DTSTART:20260522T170000Z
DTEND:20260522T190000Z
END:VEVENT
END:VCALENDAR
