BEGIN:VCALENDAR
VERSION:2.0
PRODID:SchoolNow
CALSCALE:GREGORIAN
BEGIN:VEVENT
UID:c51dac32-5141-11f0-984d-0ed606b70017
DTSTAMP:20260421T171007Z
SUMMARY:Memorial Day
URL;VALUE=URI:https://www.latrobesd.org/calendar/8350212/memorial-day
DTSTART;VALUE=DATE:20260525
DTEND;VALUE=DATE:20260526
END:VEVENT
END:VCALENDAR
