BEGIN:VCALENDAR
VERSION:2.0
PRODID:SchoolNow
CALSCALE:GREGORIAN
BEGIN:VEVENT
UID:c51dad2c-5141-11f0-8b9c-0ed606b70017
DTSTAMP:20260421T171007Z
SUMMARY:Teacher Inservice Days
URL;VALUE=URI:https://www.latrobesd.org/calendar/8350213/teacher-inservice-
 days
DTSTART;VALUE=DATE:20260526
DTEND;VALUE=DATE:20260528
END:VEVENT
END:VCALENDAR
