BEGIN:VCALENDAR
VERSION:2.0
PRODID:SchoolNow
CALSCALE:GREGORIAN
BEGIN:VEVENT
UID:c51dae3a-5141-11f0-b4a3-0ed606b70017
DTSTAMP:20260421T171007Z
SUMMARY:Board Meeting
URL;VALUE=URI:https://www.latrobesd.org/calendar/8350214/board-meeting
DTSTART:20260617T010000Z
DTEND:20260617T020000Z
END:VEVENT
END:VCALENDAR
