BEGIN:VCALENDAR
VERSION:2.0
PRODID:SchoolNow
CALSCALE:GREGORIAN
BEGIN:VEVENT
UID:c51daf2a-5141-11f0-b465-0ed606b70017
DTSTAMP:20260421T171007Z
SUMMARY:Juneteenth
URL;VALUE=URI:https://www.latrobesd.org/calendar/8350215/juneteenth
DTSTART;VALUE=DATE:20260619
DTEND;VALUE=DATE:20260620
END:VEVENT
END:VCALENDAR
