BEGIN:VCALENDAR
VERSION:2.0
PRODID:SchoolNow
CALSCALE:GREGORIAN
BEGIN:VEVENT
UID:c51db07e-5141-11f0-bc4c-0ed606b70017
DTSTAMP:20260421T171007Z
SUMMARY:July 4th Observed
URL;VALUE=URI:https://www.latrobesd.org/calendar/8350216/july-4th-observed
DTSTART;VALUE=DATE:20260703
DTEND;VALUE=DATE:20260704
END:VEVENT
END:VCALENDAR
