BEGIN:VCALENDAR
VERSION:2.0
PRODID:SchoolNow
CALSCALE:GREGORIAN
BEGIN:VEVENT
UID:94b9e8b4-9032-11f0-b660-0a58a9feac02
DTSTAMP:20260421T171008Z
SUMMARY:6-8 Electives
URL;VALUE=URI:https://www.latrobesd.org/calendar/8616859/6-8-electives
DTSTART:20260101T210000Z
DTEND:20260101T220000Z
END:VEVENT
END:VCALENDAR
