BEGIN:VCALENDAR
VERSION:2.0
PRODID:SchoolNow
CALSCALE:GREGORIAN
BEGIN:VEVENT
UID:94b9ee5e-9032-11f0-b3d6-0a58a9feac02
DTSTAMP:20260421T171008Z
SUMMARY:6-8 Electives
URL;VALUE=URI:https://www.latrobesd.org/calendar/8616864/6-8-electives
DTSTART:20260205T210000Z
DTEND:20260205T220000Z
END:VEVENT
END:VCALENDAR
