BEGIN:VCALENDAR
VERSION:2.0
PRODID:SchoolNow
CALSCALE:GREGORIAN
BEGIN:VEVENT
UID:94b9f610-9032-11f0-8665-0a58a9feac02
DTSTAMP:20260421T110508Z
SUMMARY:6-8 Electives
URL;VALUE=URI:https://www.latrobesd.org/calendar/8616873/6-8-electives
DTSTART:20260409T200000Z
DTEND:20260409T210000Z
END:VEVENT
END:VCALENDAR
