BEGIN:VCALENDAR
VERSION:2.0
PRODID:SchoolNow
CALSCALE:GREGORIAN
BEGIN:VEVENT
UID:94dd108c-9032-11f0-95a8-0a58a9feac02
DTSTAMP:20260421T171008Z
SUMMARY:6-8 Electives
URL;VALUE=URI:https://www.latrobesd.org/calendar/8616875/6-8-electives
DTSTART:20260423T200000Z
DTEND:20260423T210000Z
END:VEVENT
END:VCALENDAR
