BEGIN:VCALENDAR
VERSION:2.0
PRODID:SchoolNow
CALSCALE:GREGORIAN
BEGIN:VEVENT
UID:94dd11f4-9032-11f0-9945-0a58a9feac02
DTSTAMP:20260421T110508Z
SUMMARY:6-8 Electives
URL;VALUE=URI:https://www.latrobesd.org/calendar/8616876/6-8-electives
DTSTART:20260430T200000Z
DTEND:20260430T210000Z
END:VEVENT
END:VCALENDAR
