BEGIN:VCALENDAR
VERSION:2.0
PRODID:SchoolNow
CALSCALE:GREGORIAN
BEGIN:VEVENT
UID:900d1394-f8bb-11f0-8af9-0e9d7f1cf11d
DTSTAMP:20260421T171007Z
SUMMARY:4-5 Gold Rush Assembly
URL;VALUE=URI:https://www.latrobesd.org/calendar/8840148/4-5-gold-rush-asse
 mbly
DTSTART:20260304T210000Z
DTEND:20260304T220000Z
END:VEVENT
END:VCALENDAR
