BEGIN:VCALENDAR
VERSION:2.0
PRODID:SchoolNow
CALSCALE:GREGORIAN
BEGIN:VEVENT
UID:900d322a-f8bb-11f0-aa47-0e9d7f1cf11d
DTSTAMP:20260421T171007Z
SUMMARY:Kinder Graduation
URL;VALUE=URI:https://www.latrobesd.org/calendar/8840149/kinder-graduation
DTSTART:20260520T200000Z
DTEND:20260520T210000Z
END:VEVENT
END:VCALENDAR
