BEGIN:VCALENDAR
VERSION:2.0
PRODID:SchoolNow
CALSCALE:GREGORIAN
BEGIN:VEVENT
UID:900d3658-f8bb-11f0-b8ac-0e9d7f1cf11d
DTSTAMP:20260421T171007Z
SUMMARY:High School Counselor visit to 8th grade
URL;VALUE=URI:https://www.latrobesd.org/calendar/8840152/high-school-counse
 lor-visit-to-8th-grade
DTSTART:20260115T160000Z
DTEND:20260115T170000Z
END:VEVENT
END:VCALENDAR
