BEGIN:VCALENDAR
VERSION:2.0
PRODID:SchoolNow
CALSCALE:GREGORIAN
BEGIN:VEVENT
UID:900d3784-f8bb-11f0-9109-0e9d7f1cf11d
DTSTAMP:20260421T171007Z
SUMMARY:Social Media Parent Night - Adults Only
URL;VALUE=URI:https://www.latrobesd.org/calendar/8840153/social-media-paren
 t-night-adults-only
DTSTART:20260212T013000Z
DTEND:20260212T030000Z
END:VEVENT
END:VCALENDAR
