BEGIN:VCALENDAR
VERSION:2.0
PRODID:SchoolNow
CALSCALE:GREGORIAN
BEGIN:VEVENT
UID:900d38b0-f8bb-11f0-9322-0e9d7f1cf11d
DTSTAMP:20260421T171007Z
SUMMARY:MH Schoolwide Breakfast
URL;VALUE=URI:https://www.latrobesd.org/calendar/8840154/mh-schoolwide-brea
 kfast
DTSTART:20260518T144000Z
DTEND:20260518T151000Z
END:VEVENT
END:VCALENDAR
