BEGIN:VCALENDAR
VERSION:2.0
PRODID:SchoolNow
CALSCALE:GREGORIAN
BEGIN:VEVENT
UID:900d39d2-f8bb-11f0-bdd2-0e9d7f1cf11d
DTSTAMP:20260421T171007Z
SUMMARY:Student Business Plans Due Today
URL;VALUE=URI:https://www.latrobesd.org/calendar/8840155/student-business-p
 lans-due-today
DTSTART;VALUE=DATE:20260306
DTEND;VALUE=DATE:20260307
END:VEVENT
END:VCALENDAR
