BEGIN:VCALENDAR
VERSION:2.0
PRODID:SchoolNow
CALSCALE:GREGORIAN
BEGIN:VEVENT
UID:900d3ac2-f8bb-11f0-a2ec-0e9d7f1cf11d
DTSTAMP:20260421T171007Z
SUMMARY:7th FT - Sunsplash
URL;VALUE=URI:https://www.latrobesd.org/calendar/8840156/7th-ft-sunsplash
DTSTART;VALUE=DATE:20260520
DTEND;VALUE=DATE:20260521
END:VEVENT
END:VCALENDAR
