BEGIN:VCALENDAR
VERSION:2.0
PRODID:SchoolNow
CALSCALE:GREGORIAN
BEGIN:VEVENT
UID:900d3bda-f8bb-11f0-a226-0e9d7f1cf11d
DTSTAMP:20260421T171007Z
SUMMARY:PTC Date Night @ MH
URL;VALUE=URI:https://www.latrobesd.org/calendar/8840157/ptc-date-night-mh
DTSTART:20260110T000000Z
DTEND:20260110T040000Z
END:VEVENT
END:VCALENDAR
