BEGIN:VCALENDAR
VERSION:2.0
PRODID:SchoolNow
CALSCALE:GREGORIAN
BEGIN:VEVENT
UID:900d3d06-f8bb-11f0-b890-0e9d7f1cf11d
DTSTAMP:20260421T171007Z
SUMMARY:MH Speech Contest
URL;VALUE=URI:https://www.latrobesd.org/calendar/8840158/mh-speech-contest
DTSTART;VALUE=DATE:20260203
DTEND;VALUE=DATE:20260204
END:VEVENT
END:VCALENDAR
