BEGIN:VCALENDAR
VERSION:2.0
PRODID:SchoolNow
CALSCALE:GREGORIAN
BEGIN:VEVENT
UID:900d3e3c-f8bb-11f0-b127-0e9d7f1cf11d
DTSTAMP:20260421T171007Z
SUMMARY:6-8 Social Media Assembly
URL;VALUE=URI:https://www.latrobesd.org/calendar/8840159/6-8-social-media-a
 ssembly
DTSTART:20260211T210000Z
DTEND:20260211T220000Z
END:VEVENT
END:VCALENDAR
