BEGIN:VCALENDAR
VERSION:2.0
PRODID:SchoolNow
CALSCALE:GREGORIAN
BEGIN:VEVENT
UID:900d3fcc-f8bb-11f0-9562-0e9d7f1cf11d
DTSTAMP:20260421T171007Z
SUMMARY:MH Schoolwide breakfast
URL;VALUE=URI:https://www.latrobesd.org/calendar/8840160/mh-schoolwide-brea
 kfast
DTSTART:20260126T154000Z
DTEND:20260126T161000Z
END:VEVENT
END:VCALENDAR
