BEGIN:VCALENDAR
VERSION:2.0
PRODID:SchoolNow
CALSCALE:GREGORIAN
BEGIN:VEVENT
UID:900d4292-f8bb-11f0-9e45-0e9d7f1cf11d
DTSTAMP:20260421T171007Z
SUMMARY:4-5 Social Media Assembly
URL;VALUE=URI:https://www.latrobesd.org/calendar/8840162/4-5-social-media-a
 ssembly
DTSTART:20260211T190000Z
DTEND:20260211T200000Z
END:VEVENT
END:VCALENDAR
