BEGIN:VCALENDAR
VERSION:2.0
PRODID:SchoolNow
CALSCALE:GREGORIAN
BEGIN:VEVENT
UID:900d43aa-f8bb-11f0-b416-0e9d7f1cf11d
DTSTAMP:20260421T171007Z
SUMMARY:8th Grade Drama Performance
URL;VALUE=URI:https://www.latrobesd.org/calendar/8840163/8th-grade-drama-pe
 rformance
DTSTART:20260227T211500Z
DTEND:20260227T220000Z
END:VEVENT
END:VCALENDAR
