BEGIN:VCALENDAR
VERSION:2.0
PRODID:SchoolNow
CALSCALE:GREGORIAN
BEGIN:VEVENT
UID:900d44ae-f8bb-11f0-bd97-0e9d7f1cf11d
DTSTAMP:20260421T171007Z
SUMMARY:MH Speech Assembly
URL;VALUE=URI:https://www.latrobesd.org/calendar/8840164/mh-speech-assembly
DTSTART:20260203T191500Z
DTEND:20260203T200000Z
END:VEVENT
END:VCALENDAR
