BEGIN:VCALENDAR
VERSION:2.0
PRODID:SchoolNow
CALSCALE:GREGORIAN
BEGIN:VEVENT
UID:900d45bc-f8bb-11f0-ad3d-0e9d7f1cf11d
DTSTAMP:20260421T171007Z
SUMMARY:Past and Present Assembly @ LES
URL;VALUE=URI:https://www.latrobesd.org/calendar/8840165/past-and-present-a
 ssembly-les
DTSTART:20260116T181500Z
DTEND:20260116T191500Z
END:VEVENT
END:VCALENDAR
