BEGIN:VCALENDAR
VERSION:2.0
PRODID:SchoolNow
CALSCALE:GREGORIAN
BEGIN:VEVENT
UID:900d46a2-f8bb-11f0-90f7-0e9d7f1cf11d
DTSTAMP:20260421T171007Z
SUMMARY:MH Pride Assembly
URL;VALUE=URI:https://www.latrobesd.org/calendar/8840166/mh-pride-assembly
DTSTART:20260519T200000Z
DTEND:20260519T210000Z
END:VEVENT
END:VCALENDAR
